BEGIN:VCALENDAR
VERSION:2.0
PRODID:-//Banbury Stamp Society - ECPv6.15.18//NONSGML v1.0//EN
CALSCALE:GREGORIAN
METHOD:PUBLISH
X-ORIGINAL-URL:http://www.banburystampsociety.co.uk
X-WR-CALDESC:Events for Banbury Stamp Society
REFRESH-INTERVAL;VALUE=DURATION:PT1H
X-Robots-Tag:noindex
X-PUBLISHED-TTL:PT1H
BEGIN:VTIMEZONE
TZID:Europe/London
BEGIN:DAYLIGHT
TZOFFSETFROM:+0000
TZOFFSETTO:+0100
TZNAME:BST
DTSTART:20250330T010000
END:DAYLIGHT
BEGIN:STANDARD
TZOFFSETFROM:+0100
TZOFFSETTO:+0000
TZNAME:GMT
DTSTART:20251026T010000
END:STANDARD
BEGIN:DAYLIGHT
TZOFFSETFROM:+0000
TZOFFSETTO:+0100
TZNAME:BST
DTSTART:20260329T010000
END:DAYLIGHT
BEGIN:STANDARD
TZOFFSETFROM:+0100
TZOFFSETTO:+0000
TZNAME:GMT
DTSTART:20261025T010000
END:STANDARD
BEGIN:DAYLIGHT
TZOFFSETFROM:+0000
TZOFFSETTO:+0100
TZNAME:BST
DTSTART:20270328T010000
END:DAYLIGHT
BEGIN:STANDARD
TZOFFSETFROM:+0100
TZOFFSETTO:+0000
TZNAME:GMT
DTSTART:20271031T010000
END:STANDARD
END:VTIMEZONE
BEGIN:VEVENT
DTSTART;TZID=Europe/London:20260421T193000
DTEND;TZID=Europe/London:20260421T213000
DTSTAMP:20260425T162813
CREATED:20250817T170800Z
LAST-MODIFIED:20250817T170800Z
UID:1679-1776799800-1776807000@www.banburystampsociety.co.uk
SUMMARY:GB Queen Elizabeth 2 Postal History 1953 - 71
DESCRIPTION:Kim Stuckey
URL:http://www.banburystampsociety.co.uk/event/gb-queen-elizabeth-2-postal-history-1953-71/
LOCATION:Hanwell Fields Community Centre\, Rotary Way\, Banbury\, OX16 1ER\, United Kingdom
END:VEVENT
END:VCALENDAR