BEGIN:VCALENDAR
VERSION:2.0
PRODID:-//Banbury Stamp Society - ECPv6.15.18//NONSGML v1.0//EN
CALSCALE:GREGORIAN
METHOD:PUBLISH
X-WR-CALNAME:Banbury Stamp Society
X-ORIGINAL-URL:http://www.banburystampsociety.co.uk
X-WR-CALDESC:Events for Banbury Stamp Society
REFRESH-INTERVAL;VALUE=DURATION:PT1H
X-Robots-Tag:noindex
X-PUBLISHED-TTL:PT1H
BEGIN:VTIMEZONE
TZID:Europe/London
BEGIN:DAYLIGHT
TZOFFSETFROM:+0000
TZOFFSETTO:+0100
TZNAME:BST
DTSTART:20250330T010000
END:DAYLIGHT
BEGIN:STANDARD
TZOFFSETFROM:+0100
TZOFFSETTO:+0000
TZNAME:GMT
DTSTART:20251026T010000
END:STANDARD
BEGIN:DAYLIGHT
TZOFFSETFROM:+0000
TZOFFSETTO:+0100
TZNAME:BST
DTSTART:20260329T010000
END:DAYLIGHT
BEGIN:STANDARD
TZOFFSETFROM:+0100
TZOFFSETTO:+0000
TZNAME:GMT
DTSTART:20261025T010000
END:STANDARD
BEGIN:DAYLIGHT
TZOFFSETFROM:+0000
TZOFFSETTO:+0100
TZNAME:BST
DTSTART:20270328T010000
END:DAYLIGHT
BEGIN:STANDARD
TZOFFSETFROM:+0100
TZOFFSETTO:+0000
TZNAME:GMT
DTSTART:20271031T010000
END:STANDARD
END:VTIMEZONE
BEGIN:VEVENT
DTSTART;TZID=Europe/London:20260203T193000
DTEND;TZID=Europe/London:20260203T213000
DTSTAMP:20260425T150423
CREATED:20250817T170122Z
LAST-MODIFIED:20250817T170122Z
UID:1669-1770147000-1770154200@www.banburystampsociety.co.uk
SUMMARY:Members to Display Stamps/Covers - Letter N
DESCRIPTION:Members
URL:http://www.banburystampsociety.co.uk/event/members-to-display-stamps-covers-letter-n/
LOCATION:Jubilee Park Hall\, Barley Close\, Bloxham OX15 4NJ\, Jubilee Park Hall\, Barley Close\, Bloxham\, Oxfordshire\, OX15 4NJ\, United Kingdom
END:VEVENT
BEGIN:VEVENT
DTSTART;TZID=Europe/London:20260217T193000
DTEND;TZID=Europe/London:20260217T213000
DTSTAMP:20260425T150423
CREATED:20250817T170245Z
LAST-MODIFIED:20250817T170245Z
UID:1671-1771356600-1771363800@www.banburystampsociety.co.uk
SUMMARY:The Last Explorer - The amazing life of Sir Hubert Wilkins
DESCRIPTION:Alan Godfrey
URL:http://www.banburystampsociety.co.uk/event/the-last-explorer-the-amazing-life-of-sir-hubert-wilkins/
LOCATION:Jubilee Park Hall\, Barley Close\, Bloxham OX15 4NJ\, Jubilee Park Hall\, Barley Close\, Bloxham\, Oxfordshire\, OX15 4NJ\, United Kingdom
END:VEVENT
END:VCALENDAR